BEGIN:VCALENDAR
VERSION:2.0
PRODID:-//Contratero//ES
CALSCALE:GREGORIAN
METHOD:PUBLISH
BEGIN:VEVENT
UID:PA 5/2026@contratero.es
DTSTAMP:20260420T095423Z
DTSTART:20260414T235959
DTEND:20260415T005959
SUMMARY:Cierre: Servicio de implantación y mantenimiento de una pl
DESCRIPTION:Servicio de implantación y mantenimiento de una plataforma de administración electrónica para MODUS ROTA.\\n\\nOrganismo: Consejo de Administración de Movilidad y Desarrollo Urbano Sostenible\, S.L.\, (MODUS ROTA)\\n\\nVer en Contratero: https://contratero.es/contracts/PA 5/2026
URL:https://contratero.es/contracts/PA 5/2026
STATUS:CONFIRMED
BEGIN:VALARM
TRIGGER:-P1D
ACTION:DISPLAY
DESCRIPTION:Recordatorio: Servicio de implantación y man
END:VALARM
END:VEVENT
END:VCALENDAR